BEGIN:VCALENDAR
VERSION:2.0
PRODID:-//Plone.org//NONSGML plone.app.event//EN
X-WR-TIMEZONE:Brazil/East
BEGIN:VEVENT
SUMMARY:Sessão Extraordinária 15/12/2016 - 17:00hs
DTSTART;TZID=Brazil/East;VALUE=DATE-TIME:20161215T170000
DTEND;TZID=Brazil/East;VALUE=DATE-TIME:20161215T180000
DTSTAMP;VALUE=DATE-TIME:20260421T064344Z
UID:4efc5fa0cadc4ead8256d379473734a1@www.jaguapita.pr.leg.br
CONTACT:https://www.youtube.com/watch?v=uIXOZRYD27c
CREATED;VALUE=DATE-TIME:20161212T155718Z
LAST-MODIFIED;VALUE=DATE-TIME:20161212T155754Z
LOCATION:Câmara Municipal de Jaguapitã
URL:https://www.jaguapita.pr.leg.br/institucional/eventos/sessao-extraordi
 naria-15-12-2016-17-00hs
END:VEVENT
BEGIN:VTIMEZONE
TZID:Brazil/East
X-LIC-LOCATION:Brazil/East
BEGIN:DAYLIGHT
DTSTART;VALUE=DATE-TIME:20161016T010000
TZNAME:BRST
TZOFFSETFROM:-0300
TZOFFSETTO:-0200
END:DAYLIGHT
END:VTIMEZONE
END:VCALENDAR
